View In:
ArcGIS JavaScript
ArcGIS Online Map Viewer
ArcGIS Earth
ArcMap
View Footprint In:
ArcGIS Online Map Viewer
Service Description: van/sdeweb_rdadmin_vanderhoof_hillshade_60_noshadow_clip
Name: van/sdeweb_rdadmin_vanderhoof_hillshade_60_noshadow_clip
Description:
Single Fused Map Cache: false
Extent:
XMin: 409993.6800000005
YMin: 5981663.64
XMax: 440066.1800000005
YMax: 5990838.64
Spatial Reference: 26910
(26910)
Initial Extent:
XMin: 409993.6800000005
YMin: 5981663.64
XMax: 440066.1800000005
YMax: 5990838.64
Spatial Reference: 26910
(26910)
Full Extent:
XMin: 409993.6800000005
YMin: 5981663.64
XMax: 440066.1800000005
YMax: 5990838.64
Spatial Reference: 26910
(26910)
Pixel Size X: 0.5
Pixel Size Y: 0.5
Band Count: 1
Pixel Type: U8
RasterFunction Infos: {"rasterFunctionInfos": [{
"name": "None",
"description": "",
"help": ""
}]}
Mensuration Capabilities: Basic
Has Histograms: true
Has Colormap: false
Has Multi Dimensions : false
Rendering Rule:
Min Scale: 0
Max Scale: 0
Copyright Text:
Service Data Type: esriImageServiceDataTypeGeneric
Min Values: 0
Max Values: 254
Mean Values: 167.06750848209302
Standard Deviation Values: 79.18826644010069
Object ID Field:
Fields:
None
Default Mosaic Method: Center
Allowed Mosaic Methods:
SortField:
SortValue: null
Mosaic Operator: First
Default Compression Quality: 75
Default Resampling Method: Bilinear
Max Record Count: null
Max Image Height: 4100
Max Image Width: 15000
Max Download Image Count: null
Max Mosaic Image Count: null
Allow Raster Function: true
Allow Copy: null
Allow Analysis: null
Allow Compute TiePoints: false
Supports Statistics: false
Supports Advanced Queries: false
Use StandardizedQueries: true
Raster Type Infos:
Name: Raster Dataset
Description: Supports all ArcGIS Raster Datasets
Help:
Has Raster Attribute Table: true
Edit Fields Info: null
Ownership Based AccessControl For Rasters: null
Child Resources:
Info
Raster Attribute Table
Histograms
Key Properties
Legend
Raster Function Infos
Supported Operations:
Export Image
Identify
Measure
Compute Histograms
Compute Statistics Histograms
Get Samples
Compute Class Statistics
Query Boundary
Compute Pixel Location
Compute Angles
Validate
Project