View In:
ArcGIS JavaScript
ArcGIS Online Map Viewer
ArcGIS Earth
ArcMap
View Footprint In:
ArcGIS Online Map Viewer
Service Description: FSJ/sdeweb_rdadmin_FSJ_Image_2022
Name: FSJ/sdeweb_rdadmin_FSJ_Image_2022
Description:
Single Fused Map Cache: false
Extent:
XMin: -1.3835270337981705E7
YMin: 7250189.977281174
XMax: -1.3829970437981706E7
YMax: 7258879.0772811705
Spatial Reference: 102100
(3857)
Initial Extent:
XMin: -1.3835270337981705E7
YMin: 7250189.977281174
XMax: -1.3829970437981706E7
YMax: 7258879.0772811705
Spatial Reference: 102100
(3857)
Full Extent:
XMin: -1.3835270337981705E7
YMin: 7250189.977281174
XMax: -1.3829970437981706E7
YMax: 7258879.0772811705
Spatial Reference: 102100
(3857)
Pixel Size X: 0.09999999999997189
Pixel Size Y: 0.09999999999996356
Band Count: 3
Pixel Type: U8
RasterFunction Infos: {"rasterFunctionInfos": [{
"name": "None",
"description": "",
"help": ""
}]}
Mensuration Capabilities: Basic
Has Histograms: true
Has Colormap: false
Has Multi Dimensions : false
Rendering Rule:
Min Scale: 0
Max Scale: 0
Copyright Text:
Service Data Type: esriImageServiceDataTypeRGB
Min Values: 0, 0, 0
Max Values: 255, 255, 255
Mean Values: 184.90467772573055, 189.8748198811531, 178.69489703618243
Standard Deviation Values: 86.00576142513773, 78.7640314321689, 87.18990509665045
Object ID Field:
Fields:
None
Default Mosaic Method: Center
Allowed Mosaic Methods:
SortField:
SortValue: null
Mosaic Operator: First
Default Compression Quality: 75
Default Resampling Method: Bilinear
Max Record Count: null
Max Image Height: 4100
Max Image Width: 15000
Max Download Image Count: null
Max Mosaic Image Count: null
Allow Raster Function: true
Allow Copy: null
Allow Analysis: null
Allow Compute TiePoints: false
Supports Statistics: false
Supports Advanced Queries: false
Use StandardizedQueries: true
Raster Type Infos:
Name: Raster Dataset
Description: Supports all ArcGIS Raster Datasets
Help:
Has Raster Attribute Table: false
Edit Fields Info: null
Ownership Based AccessControl For Rasters: null
Child Resources:
Info
Histograms
Key Properties
Legend
Raster Function Infos
Supported Operations:
Export Image
Identify
Measure
Compute Histograms
Compute Statistics Histograms
Get Samples
Compute Class Statistics
Query Boundary
Compute Pixel Location
Compute Angles
Validate
Project