{
 "currentVersion": 10.91,
 "serviceDescription": "TOS/sdeweb_rdadmin_TOS_Image_2021",
 "name": "TOS/sdeweb_rdadmin_TOS_Image_2021",
 "description": "",
 "extent": {
  "xmin": 615186.0000684455,
  "ymin": 6067583.19992249,
  "xmax": 620586.0000650927,
  "ymax": 6078383.199949314,
  "spatialReference": {
   "wkid": 26909,
   "latestWkid": 26909
  }
 },
 "initialExtent": {
  "xmin": 615186.0000684455,
  "ymin": 6067583.19992249,
  "xmax": 620586.0000650927,
  "ymax": 6078383.199949314,
  "spatialReference": {
   "wkid": 26909,
   "latestWkid": 26909
  }
 },
 "fullExtent": {
  "xmin": 615186.0000684455,
  "ymin": 6067583.19992249,
  "xmax": 620586.0000650927,
  "ymax": 6078383.199949314,
  "spatialReference": {
   "wkid": 26909,
   "latestWkid": 26909
  }
 },
 "pixelSizeX": 0.07499999995343387,
 "pixelSizeY": 0.07500000018627745,
 "bandCount": 3,
 "pixelType": "U8",
 "minPixelSize": 0,
 "maxPixelSize": 0,
 "copyrightText": "",
 "serviceDataType": "esriImageServiceDataTypeProcessed",
 "minValues": [],
 "maxValues": [],
 "meanValues": [],
 "stdvValues": [],
 "objectIdField": "",
 "fields": [],
 "capabilities": "Image,Metadata,Mensuration",
 "defaultMosaicMethod": "Center",
 "allowedMosaicMethods": "",
 "sortField": "",
 "sortValue": null,
 "sortAscending": true,
 "mosaicOperator": "First",
 "defaultCompressionQuality": 75,
 "defaultResamplingMethod": "Bilinear",
 "maxImageHeight": 4100,
 "maxImageWidth": 15000,
 "allowRasterFunction": true,
 "rasterFunctionInfos": [
  {
   "name": "None",
   "description": "",
   "help": ""
  }
 ],
 "rasterTypeInfos": [
  {
   "name": "Raster Dataset",
   "description": "Supports all ArcGIS Raster Datasets",
   "help": ""
  }
 ],
 "mensurationCapabilities": "Basic",
 "hasHistograms": false,
 "hasColormap": false,
 "hasRasterAttributeTable": false,
 "minScale": 0,
 "maxScale": 0,
 "exportTilesAllowed": false,
 "hasMultidimensions": false,
 "supportsStatistics": false,
 "supportsAdvancedQueries": false,
 "editFieldsInfo": null,
 "ownershipBasedAccessControlForRasters": null,
 "allowComputeTiePoints": false,
 "useStandardizedQueries": true,
 "advancedQueryCapabilities": {
  "useStandardizedQueries": true,
  "supportsStatistics": false,
  "supportsOrderBy": false,
  "supportsDistinct": false,
  "supportsPagination": false
 },
 "spatialReference": {
  "wkid": 26909,
  "latestWkid": 26909
 }
}
